Workbook
Name ドロップ１: '（削除禁）入力補助データ'!$B$1:$B$6
Name バス: '（削除禁）入力補助データ'!$E$1:$E$2
Name ムービー: '（削除禁）入力補助データ'!$B$1:$B$6

Sheet 取材申請書
A1: 大会取材申請書 ※申請はＥ－ｍａｉｌ のみの受付となります。本申請書に必要事項を入力いただき、大阪マラソン広報事務局にお送りください。 | Z1: 管理№
A3: Ｅ－ｍａｉｌ 送信先 ： 大阪マラソン広報事務局（E-mａｉｌ： ompress@dpr.dentsu.co.jp)電通パブリックリレーションズ内 | V3: ※大阪マラソン広報事務局確認欄
A4: 申し込み期日 ： ２０１６年 １０月２０日（木） ２４時 締切
A5: ※事前申請となっております。申し込み期日までに申請ください。申し込み期日を過ぎての受付はできません。
A6: ※申請に関する詳細は、第6回大阪マラソン「取材要綱」P.4～6をご確認ください。
A8: 申請日※ | F8: （ ） | G8: ※印は入力必須項目です
A9: 会社名 /部署名 | B9: 会社名※ | H9: ＴＥＬ※
B10: 部署名※ | H10: ＦＡＸ※
A11: 媒体名※ | H11: 携帯電話※
A12: ご担当者名（取材代表者）※ | H12: E-mail※ | T12: 【取材エリア申し込み時の注意事項】
A13: 申し込み枚数※ | C13: プレスAD | G13: 枚 | H13: カメラマンビブス | K13: 枚 | L13: ※属性 | T13: 抽選 | U13: と書かれているエリアは、下記集合時間にお集まりいただき、取材位置の抽選を行います。
T14: 原則、1エリア、1社1カメラのみとなっています。重複しないようにご計画ください。なお、各エリアともに、オフィシャル（共催・
A15: 以下に、「プレスAD」を使用される全ての方の登録および取材予定を入力してください。登録、申請漏れのなきよう、ご注意ください。 | T15: 後援メディア）、スポンサーカメラを優先とさせていただきます。あらかじめご了承ください。
A17: ■プレスＡＤ登録者 | T17: 10/30（日） | X17: 集合時間
A18: Ｎｏ． | B18: 氏 名※ | D18: 部 署※ | G18: ※属性 | H18: 緊急連絡先（当日連絡先）※ | J18: Ｎｏ． | K18: 氏 名※ | M18: 部 署※ | O18: ※属性 | P18: 緊急連絡先（当日連絡先）※ | T18: スタート | U18: A | V18: 大阪府大手前庁舎側 | X18: 0.3125 | Y18: ※Bご取材の際は、全ランナーが出走完了するまで、
A19: （入力例） | B19: 大阪 三郎 | D19: 写真部 | G19: 撮影クルー | H19: 090-1234-5678 | J19: 10 | U19: B | V19: 大阪城公園側 | Y19: エリアから出ることができません。
A20: 1 | J20: 11 | U20: C-2 | V20: 大阪府大手前庁舎 | Y20: ※A、B、C-2の掛け持ちはできません。
A21: 2 | J21: 12 | V21: 第1号館前歩道橋
A22: 3 | J22: 13 | T22: フィニッシュ | U22: D 車いす | V22: フォトブリッジ上 | X22: 0.375 | Y22: ※D、E-1、E-2の車いすの同一人物による重複申し込み、
A23: 4 | J23: 14 | U23: D マラソン | X23: 0.4375 | Y23: D、E-1、E-2のマラソンの同一人物による重複申し込み
A24: 5 | J24: 15 | U24: E-1 車いす | V24: フォトブリッジ前 | X24: 0.375 | Y24: はできません。（D、E-1は女子トップフィニッシュ以降は
A25: 6 | J25: 16 | U25: E-1 マラソン | X25: 0.4375 | Y25: 自由取材） | AP25: 2
A26: 7 | J26: 17 | U26: E-2 車いす | V26: フォトブリッジ下 （女子トップのフィニッシュ時まで） | X26: 0.375 | Y26: ※Gエリア取材後、D、E-1、E-2の車いすの抽選には間に
A27: 8 | J27: 18 | U27: E-2 マラソン | X27: 0.4375 | Y27: 合いません。
A28: 9 | J28: 19 | U28: G | V28: チャレンジランフィニッシュ | X28: 0.35416667
A30: ■取材予定入力欄 | D30: ※各ご担当者様が取材予定されるエリア・イベントに、数字の「１」を入力ください。おひとりで掛け持ち取材ができないエリアもございますので、右上の注意事項をご確認ください。
A31: 10/28（金）・29（土） 取材予定 | H31: （入力例） | I31: プレスＡＤ登録者
A32: 日付 | B32: 内容 | H32: =B19 -> 大阪 三郎 | I32: =B20 -> 0 | J32: =B21 -> 0 | K32: =B22 -> 0 | L32: =B23 -> 0 | M32: =B24 -> 0 | N32: =B25 -> 0 | O32: =B26 -> 0 | P32: =B27 -> 0 | Q32: =B28 -> 0 | R32: =K19 -> 0 | S32: =K20 -> 0 | T32: =K21 -> 0 | U32: =K22 -> 0 | V32: =K23 -> 0 | W32: =K24 -> 0 | X32: =K25 -> 0 | Y32: =K26 -> 0 | Z32: =K27 -> 0 | AA32: =K28 -> 0 | AB32: カメラマン（ﾑｰﾋﾞｰ） | AC32: カメラマン（ｽﾁｰﾙ） | AD32: 撮影クルー | AE32: 記者（撮影しない） | AF32: その他（ﾚﾎﾟｰﾀｰ） | AH32: 総人数合計 | AI32: MS総合計
A33: 10/28 (金) | B33: 大阪マラソンEXPO 2016オープニングセレモニー・内覧会 | H33: 1 | AH33: =SUM(AB33:AF33) -> 0 | AI33: =AB33+AC33 -> 0
B34: 大阪マラソンEXPO 2016 （一般公開・自由取材） | AH34: =SUM(AB34:AF34) -> 0 | AI34: =AB34+AC34 -> 0
A35: 10/29 （土） | B35: 大阪マラソンEXPO 2016 （一般公開・自由取材） | AH35: =SUM(AB35:AF35) -> 0 | AI35: =AB35+AC35 -> 0
B36: 第6回大阪マラソン応援団長 森脇健児スペシャルトーク
B37: 第6回大阪マラソンなないろチャリティステージ （ﾄｰｸｼｮｰ、ﾁｬﾘﾃｨｵｰｸｼｮﾝ） | AH37: =SUM(AB37:AF37) -> 0 | AI37: =AB37+AC37 -> 0
B38: ウェルカムパーティ・出場選手記者会見 会場：ﾊｲｱｯﾄﾘｰｼﾞｪﾝｼｰ大阪 | AH38: =SUM(AB38:AF38) -> 0 | AI38: =AB38+AC38 -> 0
A39: 10/30（日） 取材予定 | H39: （入力例） | I39: プレスＡＤ登録者
A40: 日付 | B40: 取材地点 | C40: 取材エリア | H40: =H32 -> 大阪 三郎 | I40: =I32 -> 0 | J40: =J32 -> 0 | K40: =K32 -> 0 | L40: =L32 -> 0 | M40: =M32 -> 0 | N40: =N32 -> 0 | O40: =O32 -> 0 | ... AA40: =AA32 -> 0 | AB40: カメラマン（ﾑｰﾋﾞｰ） | AC40: カメラマン（ｽﾁｰﾙ） | AD40: 撮影クルー | AE40: 記者（撮影しない） | AF40: その他（ﾚﾎﾟｰﾀｰ） | AG40: バス利用 | AH40: 総人数合計 | AI40: MS総合計
A41: 10/30 （日） | B41: スタート | C41: Ａ | D41: 大阪府大手前庁舎側 | G41: 抽選
C42: Ｂ | D42: 大阪城公園側 | G42: 抽選
C43: Ｃ-1 | D43: 待機列横歩道 （大阪府大手前庁舎側） | G43: エリア内 自由取材
C44: Ｃ-2 | D44: 大阪府大手前庁舎 第1号館前歩道橋 | G44: 抽選
...

Sheet （削除禁）入力補助データ
B1: カメラマン（ﾑｰﾋﾞｰ） | E1: 利用する
B2: 撮影クルー | E2: 利用しない
B3: カメラマン（ｽﾁｰﾙ）
B4: 記者（撮影しない）
B5: その他（ﾚﾎﾟｰﾀｰ）
A8: 代表者 | D8: 管理No. | F8: 会社名 | G8: 部署 | H8: 媒体名 | I8: 代表者 | J8: 当日連絡先 | K8: メールアドレス | L8: 申請日 | M8: プレスAD | N8: カメラマンビブス | O8: 【通信欄】 | P8: 備考
A9: □ | C9: 1 | D9: =取材申請書!AA1 -> 0 | F9: =取材申請書!C9 -> 0 | G9: =取材申請書!C10 -> 0 | H9: =取材申請書!C11 -> 0 | I9: =取材申請書!C12 -> 0 | J9: =取材申請書!I11 -> 0 | K9: =取材申請書!I12 -> 0 | L9: =取材申請書!B8 -> 0 | M9: =取材申請書!E13 -> 0 | N9: =取材申請書!J13 -> 0 | R9: 【通信欄】 | U9: 0
A13: エリア別マスター
L14: 10/28（金） | N14: 10/29（土） | R14: 10/30（日）
L15: 大阪マラソンEXPO 2016オープニングセレモニー・内覧会 | M15: 大阪マラソンEXPO 2016 （一般公開・自由取材） | N15: 大阪マラソンEXPO 2016 （一般公開・自由取材） | O15: 第6回大阪マラソン応援団長 森脇健児スペシャルトーク | P15: 第6回大阪マラソンなないろチャリティステージ | Q15: ウェルカムパーティ・出場選手記者会見 | R15: スタート | W15: フィニッシュ | AD15: チャレンジランフィニッシュ | AE15: 沿道 | AI15: イベント | AJ15: その他
R16: Ａ | S16: Ｂ | T16: Ｃ-1 | U16: Ｃ-2 | V16: (移動バス） | W16: D | Y16: E-1 | AA16: E-2 | AC16: F | AD16: Ｇ | AE16: Ｈ | AF16: Ｉ | AG16: Ｊ | AH16: Ｋ | AI16: Ｌ
R17: 大阪府大手前庁舎側 | S17: 大阪城公園側 | T17: 待機列横歩道 （大阪府大手前庁舎側） | U17: 大阪府大手前庁舎 第1号館前歩道橋 | W17: フォトブリッジ上 | Y17: フォトブリッジ前 | AA17: フォトブリッジ下 | AC17: ミックスゾーン | AD17: チャレンジランフィニッシュ | AE17: 片町折り返し地点 | AF17: 千代崎橋折り返し地点 | AG17: 恵美須折り返し地点 | AH17: 難波交差点 | AI17: チャリティ親子ラン | AJ17: 表彰式 | AK17: 優勝者記者会見 | AL17: ｸﾛｰｼﾞﾝｸﾞｾﾚﾓﾆｰ | AM17: ｴﾝﾃﾞｨﾝｸﾞｽﾃｰｼﾞ
W18: 車いす | X18: マラソン | Y18: 車いす | Z18: マラソン | AA18: 車いす | AB18: マラソン | AJ18: インテックスプラザステージ
C19: 会社名 | D19: 部署 | E19: 媒体名 | F19: 氏名 | G19: 属性 | I19: 連絡先 | R19: 抽選 | S19: 抽選 | T19: エリア内自由取材 | U19: 抽選 | W19: 抽選 | Y19: 抽選 | AA19: 抽選 | AC19: 自由取材 | AD19: 抽選 | AE19: 自由取材 | AF19: 自由取材 | AG19: 自由取材 | AH19: 自由取材 | AK19: 各社／先着順 | AL19: 各社／先着順 | AM19: 各社／先着順
F20: =取材申請書!B20 -> 0 | G20: =取材申請書!G20 | I20: =取材申請書!H20 -> 0 | L20: =取材申請書!I33 -> 0 | M20: =取材申請書!I34 -> 0 | N20: =取材申請書!I35 -> 0 | O20: =取材申請書!I36 -> 0 | P20: =取材申請書!I37 -> 0 | Q20: =取材申請書!I38 -> 0 | R20: =取材申請書!I41 -> 0 | S20: =取材申請書!I42 -> 0 | T20: =取材申請書!I43 -> 0 | U20: =取材申請書!I44 -> 0 | V20: =取材申請書!I45 -> 0 | W20: =取材申請書!I46 -> 0 | X20: =取材申請書!I47 -> 0 | Y20: =取材申請書!I48 -> 0 | Z20: =取材申請書!I49 -> 0 | AA20: =取材申請書!I50 -> 0 | AB20: =取材申請書!I51 -> 0 | AC20: =取材申請書!I52 -> 0 | AD20: =取材申請書!I53 -> 0 | AE20: =取材申請書!I54 -> 0 | AF20: =取材申請書!I55 -> 0 | AG20: =取材申請書!I56 -> 0 | AH20: =取材申請書!I57 -> 0 | AI20: =取材申請書!I58 -> 0 | AJ20: =取材申請書!I59 -> 0 | AK20: =取材申請書!I60 -> 0 | AL20: =取材申請書!I61 -> 0 | AM20: =取材申請書!I62 -> 0
F21: =取材申請書!B21 -> 0 | G21: =取材申請書!G21 -> 0 | I21: =取材申請書!H21 -> 0 | L21: =取材申請書!J33 -> 0 | M21: =取材申請書!J34 -> 0 | N21: =取材申請書!J35 -> 0 | O21: =取材申請書!J35 -> 0 | P21: =取材申請書!J37 -> 0 | Q21: =取材申請書!J38 -> 0 | R21: =取材申請書!J41 -> 0 | S21: =取材申請書!J42 -> 0 | T21: =取材申請書!J43 -> 0 | U21: =取材申請書!J44 -> 0 | V21: =取材申請書!J45 -> 0 | W21: =取材申請書!J46 -> 0 | X21: =取材申請書!J47 -> 0 | Y21: =取材申請書!J48 -> 0 | Z21: =取材申請書!J49 -> 0 | AA21: =取材申請書!J50 -> 0 | AB21: =取材申請書!J51 -> 0 | AC21: =取材申請書!J52 -> 0 | AD21: =取材申請書!J53 -> 0 | AE21: =取材申請書!J54 -> 0 | AF21: =取材申請書!J55 -> 0 | AG21: =取材申請書!J56 -> 0 | AH21: =取材申請書!J57 -> 0 | AI21: =取材申請書!J58 -> 0 | AJ21: =取材申請書!J59 -> 0 | AK21: =取材申請書!J60 -> 0 | AL21: =取材申請書!J61 -> 0 | AM21: =取材申請書!J62 -> 0
F22: =取材申請書!B22 -> 0 | G22: =取材申請書!G22 -> 0 | I22: =取材申請書!H22 -> 0 | L22: =取材申請書!K33 -> 0 | M22: =取材申請書!K34 -> 0 | N22: =取材申請書!K35 -> 0 | O22: =取材申請書!K36 -> 0 | P22: =取材申請書!K37 -> 0 | Q22: =取材申請書!K38 -> 0 | R22: =取材申請書!K41 -> 0 | S22: =取材申請書!K42 -> 0 | T22: =取材申請書!K43 -> 0 | U22: =取材申請書!K44 -> 0 | V22: =取材申請書!K45 -> 0 | W22: =取材申請書!K46 -> 0 | X22: =取材申請書!K47 -> 0 | Y22: =取材申請書!K48 -> 0 | Z22: =取材申請書!K49 -> 0 | AA22: =取材申請書!K50 -> 0 | AB22: =取材申請書!K51 -> 0 | AC22: =取材申請書!K52 -> 0 | AD22: =取材申請書!K53 -> 0 | AE22: =取材申請書!K54 -> 0 | AF22: =取材申請書!K55 -> 0 | AG22: =取材申請書!K56 -> 0 | AH22: =取材申請書!K57 -> 0 | AI22: =取材申請書!K58 -> 0 | AJ22: =取材申請書!K59 -> 0 | AK22: =取材申請書!K60 -> 0 | AL22: =取材申請書!K61 -> 0 | AM22: =取材申請書!K62 -> 0
F23: =取材申請書!B23 -> 0 | G23: =取材申請書!G23 -> 0 | I23: =取材申請書!H23 -> 0 | L23: =取材申請書!L33 -> 0 | M23: =取材申請書!L34 -> 0 | N23: =取材申請書!L35 -> 0 | O23: =取材申請書!L36 -> 0 | P23: =取材申請書!L37 -> 0 | Q23: =取材申請書!L38 -> 0 | R23: =取材申請書!L41 -> 0 | S23: =取材申請書!L42 -> 0 | T23: =取材申請書!L43 -> 0 | U23: =取材申請書!L44 -> 0 | V23: =取材申請書!L45 -> 0 | W23: =取材申請書!L46 -> 0 | X23: =取材申請書!L47 -> 0 | Y23: =取材申請書!L48 -> 0 | Z23: =取材申請書!L49 -> 0 | AA23: =取材申請書!L50 -> 0 | AB23: =取材申請書!L51 -> 0 | AC23: =取材申請書!L52 -> 0 | AD23: =取材申請書!L53 -> 0 | AE23: =取材申請書!L54 -> 0 | AF23: =取材申請書!L55 -> 0 | AG23: =取材申請書!L56 -> 0 | AH23: =取材申請書!L57 -> 0 | AI23: =取材申請書!L58 -> 0 | AJ23: =取材申請書!L59 -> 0 | AK23: =取材申請書!L60 -> 0 | AL23: =取材申請書!L61 -> 0 | AM23: =取材申請書!L62 -> 0
F24: =取材申請書!B24 -> 0 | G24: =取材申請書!G24 -> 0 | I24: =取材申請書!H24 -> 0 | L24: =取材申請書!M33 -> 0 | M24: =取材申請書!M34 -> 0 | N24: =取材申請書!M35 -> 0 | O24: =取材申請書!M36 -> 0 | P24: =取材申請書!M37 -> 0 | Q24: =取材申請書!M38 -> 0 | R24: =取材申請書!M41 -> 0 | S24: =取材申請書!M42 -> 0 | T24: =取材申請書!M43 -> 0 | U24: =取材申請書!M44 -> 0 | V24: =取材申請書!M45 -> 0 | W24: =取材申請書!M46 -> 0 | X24: =取材申請書!M47 -> 0 | Y24: =取材申請書!M48 -> 0 | Z24: =取材申請書!M49 -> 0 | AA24: =取材申請書!M50 -> 0 | AB24: =取材申請書!M51 -> 0 | AC24: =取材申請書!M52 -> 0 | AD24: =取材申請書!M53 -> 0 | AE24: =取材申請書!M54 -> 0 | AF24: =取材申請書!M55 -> 0 | AG24: =取材申請書!M56 -> 0 | AH24: =取材申請書!M57 -> 0 | AI24: =取材申請書!M58 -> 0 | AJ24: =取材申請書!M59 -> 0 | AK24: =取材申請書!M60 -> 0 | AL24: =取材申請書!M61 -> 0 | AM24: =取材申請書!M62 -> 0
F25: =取材申請書!B25 -> 0 | G25: =取材申請書!G25 -> 0 | I25: =取材申請書!H25 -> 0 | L25: =取材申請書!N33 -> 0 | M25: =取材申請書!N34 -> 0 | N25: =取材申請書!N35 -> 0 | O25: =取材申請書!N36 -> 0 | P25: =取材申請書!N37 -> 0 | Q25: =取材申請書!N38 -> 0 | R25: =取材申請書!N41 -> 0 | S25: =取材申請書!N42 -> 0 | T25: =取材申請書!N43 -> 0 | U25: =取材申請書!N44 -> 0 | V25: =取材申請書!N45 -> 0 | W25: =取材申請書!N46 -> 0 | X25: =取材申請書!N47 -> 0 | Y25: =取材申請書!N48 -> 0 | Z25: =取材申請書!N49 -> 0 | AA25: =取材申請書!N50 -> 0 | AB25: =取材申請書!N51 -> 0 | AC25: =取材申請書!N52 -> 0 | AD25: =取材申請書!N53 -> 0 | AE25: =取材申請書!N54 -> 0 | AF25: =取材申請書!N55 -> 0 | AG25: =取材申請書!N56 -> 0 | AH25: =取材申請書!N57 -> 0 | AI25: =取材申請書!N58 -> 0 | AJ25: =取材申請書!N59 -> 0 | AK25: =取材申請書!N60 -> 0 | AL25: =取材申請書!N61 -> 0 | AM25: =取材申請書!N62 -> 0
F26: =取材申請書!B26 -> 0 | G26: =取材申請書!G26 -> 0 | I26: =取材申請書!H26 -> 0 | L26: =取材申請書!O33 -> 0 | M26: =取材申請書!O34 -> 0 | N26: =取材申請書!O35 -> 0 | O26: =取材申請書!O36 -> 0 | P26: =取材申請書!O37 -> 0 | Q26: =取材申請書!O38 -> 0 | R26: =取材申請書!O41 -> 0 | S26: =取材申請書!O42 -> 0 | T26: =取材申請書!O43 -> 0 | U26: =取材申請書!O44 -> 0 | V26: =取材申請書!O45 -> 0 | W26: =取材申請書!O46 -> 0 | X26: =取材申請書!O47 -> 0 | Y26: =取材申請書!O48 -> 0 | Z26: =取材申請書!O49 -> 0 | AA26: =取材申請書!O50 -> 0 | AB26: =取材申請書!O51 -> 0 | AC26: =取材申請書!O52 -> 0 | AD26: =取材申請書!O53 -> 0 | AE26: =取材申請書!O54 -> 0 | AF26: =取材申請書!O55 -> 0 | AG26: =取材申請書!O56 -> 0 | AH26: =取材申請書!O57 -> 0 | AI26: =取材申請書!O58 -> 0 | AJ26: =取材申請書!O59 -> 0 | AK26: =取材申請書!O60 -> 0 | AL26: =取材申請書!O61 -> 0 | AM26: =取材申請書!O62 -> 0
F27: =取材申請書!B27 -> 0 | G27: =取材申請書!G27 -> 0 | I27: =取材申請書!H27 -> 0 | L27: =取材申請書!P33 -> 0 | M27: =取材申請書!P34 -> 0 | N27: =取材申請書!P35 -> 0 | O27: =取材申請書!P36 -> 0 | P27: =取材申請書!P37 -> 0 | Q27: =取材申請書!P38 -> 0 | R27: =取材申請書!P41 -> 0 | S27: =取材申請書!P42 -> 0 | T27: =取材申請書!P43 -> 0 | U27: =取材申請書!P44 -> 0 | V27: =取材申請書!P45 -> 0 | W27: =取材申請書!P46 -> 0 | X27: =取材申請書!P47 -> 0 | Y27: =取材申請書!P48 -> 0 | Z27: =取材申請書!P49 -> 0 | AA27: =取材申請書!P50 -> 0 | AB27: =取材申請書!P51 -> 0 | AC27: =取材申請書!P52 -> 0 | AD27: =取材申請書!P53 -> 0 | AE27: =取材申請書!P54 -> 0 | AF27: =取材申請書!P55 -> 0 | AG27: =取材申請書!P56 -> 0 | AH27: =取材申請書!P57 -> 0 | AI27: =取材申請書!P58 -> 0 | AJ27: =取材申請書!P59 -> 0 | AK27: =取材申請書!P60 -> 0 | AL27: =取材申請書!P61 -> 0 | AM27: =取材申請書!P62 -> 0
F28: =取材申請書!B28 -> 0 | G28: =取材申請書!G28 -> 0 | I28: =取材申請書!H28 -> 0 | L28: =取材申請書!Q33 -> 0 | M28: =取材申請書!Q34 -> 0 | N28: =取材申請書!Q35 -> 0 | O28: =取材申請書!Q36 -> 0 | P28: =取材申請書!Q37 -> 0 | Q28: =取材申請書!Q38 -> 0 | R28: =取材申請書!Q41 -> 0 | S28: =取材申請書!Q42 -> 0 | T28: =取材申請書!Q43 -> 0 | U28: =取材申請書!Q44 -> 0 | V28: =取材申請書!Q45 -> 0 | W28: =取材申請書!Q46 -> 0 | X28: =取材申請書!Q47 -> 0 | Y28: =取材申請書!Q48 -> 0 | Z28: =取材申請書!Q49 -> 0 | AA28: =取材申請書!Q50 -> 0 | AB28: =取材申請書!Q51 -> 0 | AC28: =取材申請書!Q52 -> 0 | AD28: =取材申請書!Q53 -> 0 | AE28: =取材申請書!Q54 -> 0 | AF28: =取材申請書!Q55 -> 0 | AG28: =取材申請書!Q56 -> 0 | AH28: =取材申請書!Q57 -> 0 | AI28: =取材申請書!Q58 -> 0 | AJ28: =取材申請書!Q59 -> 0 | AK28: =取材申請書!Q60 -> 0 | AL28: =取材申請書!Q61 -> 0 | AM28: =取材申請書!Q62 -> 0
D29: =取材申請書!M19 -> 0 | F29: =取材申請書!K19 -> 0 | G29: =取材申請書!O19 | I29: =取材申請書!P19 -> 0 | L29: =取材申請書!R33 -> 0 | M29: =取材申請書!R34 -> 0 | N29: =取材申請書!R35 -> 0 | O29: =取材申請書!R36 -> 0 | P29: =取材申請書!R37 -> 0 | Q29: =取材申請書!R38 -> 0 | R29: =取材申請書!R41 -> 0 | S29: =取材申請書!R42 -> 0 | T29: =取材申請書!R43 -> 0 | U29: =取材申請書!R44 -> 0 | V29: =取材申請書!R45 -> 0 | W29: =取材申請書!R46 -> 0 | X29: =取材申請書!R47 -> 0 | Y29: =取材申請書!R48 -> 0 | Z29: =取材申請書!R49 -> 0 | AA29: =取材申請書!R50 -> 0 | AB29: =取材申請書!R51 -> 0 | AC29: =取材申請書!R52 -> 0 | AD29: =取材申請書!R53 -> 0 | AE29: =取材申請書!R54 -> 0 | AF29: =取材申請書!R55 -> 0 | AG29: =取材申請書!R56 -> 0 | AH29: =取材申請書!R57 -> 0 | AI29: =取材申請書!R58 -> 0 | AJ29: =取材申請書!R59 -> 0 | AK29: =取材申請書!R60 -> 0 | AL29: =取材申請書!R61 -> 0 | AM29: =取材申請書!R62 -> 0
D30: =取材申請書!M20 -> 0 | F30: =取材申請書!K20 -> 0 | G30: =取材申請書!O20 -> 0 | I30: =取材申請書!P20 -> 0 | L30: =取材申請書!S33 -> 0 | M30: =取材申請書!S34 -> 0 | N30: =取材申請書!S35 -> 0 | O30: =取材申請書!S36 -> 0 | P30: =取材申請書!S37 -> 0 | Q30: =取材申請書!S38 -> 0 | R30: =取材申請書!S41 -> 0 | S30: =取材申請書!S42 -> 0 | T30: =取材申請書!S43 -> 0 | U30: =取材申請書!S44 -> 0 | V30: =取材申請書!S45 -> 0 | W30: =取材申請書!S46 -> 0 | X30: =取材申請書!S47 -> 0 | Y30: =取材申請書!S48 -> 0 | Z30: =取材申請書!S49 -> 0 | AA30: =取材申請書!S50 -> 0 | AB30: =取材申請書!S51 -> 0 | AC30: =取材申請書!S52 -> 0 | AD30: =取材申請書!S53 -> 0 | AE30: =取材申請書!S54 -> 0 | AF30: =取材申請書!S55 -> 0 | AG30: =取材申請書!S56 -> 0 | AH30: =取材申請書!S57 -> 0 | AI30: =取材申請書!S58 -> 0 | AJ30: =取材申請書!S59 -> 0 | AK30: =取材申請書!S60 -> 0 | AL30: =取材申請書!S61 -> 0 | AM30: =取材申請書!S62 -> 0
D31: =取材申請書!M21 -> 0 | F31: =取材申請書!K21 -> 0 | G31: =取材申請書!O21 -> 0 | I31: =取材申請書!P21 -> 0 | L31: =取材申請書!T33 -> 0 | M31: =取材申請書!T34 -> 0 | N31: =取材申請書!T35 -> 0 | O31: =取材申請書!T36 -> 0 | P31: =取材申請書!T37 -> 0 | Q31: =取材申請書!T38 -> 0 | R31: =取材申請書!T41 -> 0 | S31: =取材申請書!T42 -> 0 | T31: =取材申請書!T43 -> 0 | U31: =取材申請書!T44 -> 0 | V31: =取材申請書!T45 -> 0 | W31: =取材申請書!T46 -> 0 | X31: =取材申請書!T47 -> 0 | Y31: =取材申請書!T48 -> 0 | Z31: =取材申請書!T49 -> 0 | AA31: =取材申請書!T50 -> 0 | AB31: =取材申請書!T51 -> 0 | AC31: =取材申請書!T52 -> 0 | AD31: =取材申請書!T53 -> 0 | AE31: =取材申請書!T54 -> 0 | AF31: =取材申請書!T55 -> 0 | AG31: =取材申請書!T56 -> 0 | AH31: =取材申請書!T57 -> 0 | AI31: =取材申請書!T58 -> 0 | AJ31: =取材申請書!T59 -> 0 | AK31: =取材申請書!T60 -> 0 | AL31: =取材申請書!T61 -> 0 | AM31: =取材申請書!T62 -> 0
D32: =取材申請書!M22 -> 0 | F32: =取材申請書!K22 -> 0 | G32: =取材申請書!O22 -> 0 | I32: =取材申請書!P22 -> 0 | L32: =取材申請書!U33 -> 0 | M32: =取材申請書!U34 -> 0 | N32: =取材申請書!U35 -> 0 | O32: =取材申請書!U36 -> 0 | P32: =取材申請書!U37 -> 0 | Q32: =取材申請書!U38 -> 0 | R32: =取材申請書!U41 -> 0 | S32: =取材申請書!U42 -> 0 | T32: =取材申請書!U43 -> 0 | U32: =取材申請書!U44 -> 0 | V32: =取材申請書!U45 -> 0 | W32: =取材申請書!U46 -> 0 | X32: =取材申請書!U47 -> 0 | Y32: =取材申請書!U48 -> 0 | Z32: =取材申請書!U49 -> 0 | AA32: =取材申請書!U50 -> 0 | AB32: =取材申請書!U51 -> 0 | AC32: =取材申請書!U52 -> 0 | AD32: =取材申請書!U53 -> 0 | AE32: =取材申請書!U54 -> 0 | AF32: =取材申請書!U55 -> 0 | AG32: =取材申請書!U56 -> 0 | AH32: =取材申請書!U57 -> 0 | AI32: =取材申請書!U58 -> 0 | AJ32: =取材申請書!U59 -> 0 | AK32: =取材申請書!U60 -> 0 | AL32: =取材申請書!U61 -> 0 | AM32: =取材申請書!U62 -> 0
D33: =取材申請書!M23 -> 0 | F33: =取材申請書!K23 -> 0 | G33: =取材申請書!O23 -> 0 | I33: =取材申請書!P23 -> 0 | L33: =取材申請書!V33 -> 0 | M33: =取材申請書!V34 -> 0 | N33: =取材申請書!V35 -> 0 | O33: =取材申請書!V36 -> 0 | P33: =取材申請書!V37 -> 0 | Q33: =取材申請書!V38 -> 0 | R33: =取材申請書!V41 -> 0 | S33: =取材申請書!V42 -> 0 | T33: =取材申請書!V43 -> 0 | U33: =取材申請書!V44 -> 0 | V33: =取材申請書!V45 -> 0 | W33: =取材申請書!V46 -> 0 | X33: =取材申請書!V47 -> 0 | Y33: =取材申請書!V48 -> 0 | Z33: =取材申請書!V49 -> 0 | AA33: =取材申請書!V50 -> 0 | AB33: =取材申請書!V51 -> 0 | AC33: =取材申請書!V52 -> 0 | AD33: =取材申請書!V53 -> 0 | AE33: =取材申請書!V54 -> 0 | AF33: =取材申請書!V55 -> 0 | AG33: =取材申請書!V56 -> 0 | AH33: =取材申請書!V57 -> 0 | AI33: =取材申請書!V58 -> 0 | AJ33: =取材申請書!V59 -> 0 | AK33: =取材申請書!V60 -> 0 | AL33: =取材申請書!V61 -> 0 | AM33: =取材申請書!V62 -> 0
D34: =取材申請書!M24 -> 0 | F34: =取材申請書!K24 -> 0 | G34: =取材申請書!O24 -> 0 | I34: =取材申請書!P24 -> 0 | L34: =取材申請書!W33 -> 0 | M34: =取材申請書!W34 -> 0 | N34: =取材申請書!W35 -> 0 | O34: =取材申請書!W36 -> 0 | P34: =取材申請書!W37 -> 0 | Q34: =取材申請書!W38 -> 0 | R34: =取材申請書!W41 -> 0 | S34: =取材申請書!W42 -> 0 | T34: =取材申請書!W43 -> 0 | U34: =取材申請書!W44 -> 0 | V34: =取材申請書!W45 -> 0 | W34: =取材申請書!W46 -> 0 | X34: =取材申請書!W47 -> 0 | Y34: =取材申請書!W48 -> 0 | Z34: =取材申請書!W49 -> 0 | AA34: =取材申請書!W50 -> 0 | AB34: =取材申請書!W51 -> 0 | AC34: =取材申請書!W52 -> 0 | AD34: =取材申請書!W53 -> 0 | AE34: =取材申請書!W54 -> 0 | AF34: =取材申請書!W55 -> 0 | AG34: =取材申請書!W56 -> 0 | AH34: =取材申請書!W57 -> 0 | AI34: =取材申請書!W58 -> 0 | AJ34: =取材申請書!W59 -> 0 | AK34: =取材申請書!W60 -> 0 | AL34: =取材申請書!W61 -> 0 | AM34: =取材申請書!W62 -> 0
D35: =取材申請書!M25 -> 0 | F35: =取材申請書!K25 -> 0 | G35: =取材申請書!O25 -> 0 | I35: =取材申請書!P25 -> 0 | L35: =取材申請書!X33 -> 0 | M35: =取材申請書!X34 -> 0 | N35: =取材申請書!X35 -> 0 | O35: =取材申請書!X36 -> 0 | P35: =取材申請書!X37 -> 0 | Q35: =取材申請書!X38 -> 0 | R35: =取材申請書!X41 -> 0 | S35: =取材申請書!X42 -> 0 | T35: =取材申請書!X43 -> 0 | U35: =取材申請書!X44 -> 0 | V35: =取材申請書!X45 -> 0 | W35: =取材申請書!X46 -> 0 | X35: =取材申請書!X47 -> 0 | Y35: =取材申請書!X48 -> 0 | Z35: =取材申請書!X49 -> 0 | AA35: =取材申請書!X50 -> 0 | AB35: =取材申請書!X51 -> 0 | AC35: =取材申請書!X52 -> 0 | AD35: =取材申請書!X53 -> 0 | AE35: =取材申請書!X54 -> 0 | AF35: =取材申請書!X55 -> 0 | AG35: =取材申請書!X56 -> 0 | AH35: =取材申請書!X57 -> 0 | AI35: =取材申請書!X58 -> 0 | AJ35: =取材申請書!X59 -> 0 | AK35: =取材申請書!X60 -> 0 | AL35: =取材申請書!X61 -> 0 | AM35: =取材申請書!X62 -> 0
D36: =取材申請書!M26 -> 0 | F36: =取材申請書!K26 -> 0 | G36: =取材申請書!O26 -> 0 | I36: =取材申請書!P26 -> 0 | L36: =取材申請書!Y33 -> 0 | M36: =取材申請書!Y34 -> 0 | N36: =取材申請書!Y35 -> 0 | O36: =取材申請書!Y36 -> 0 | P36: =取材申請書!Y37 -> 0 | Q36: =取材申請書!Y38 -> 0 | R36: =取材申請書!Y41 -> 0 | S36: =取材申請書!Y42 -> 0 | T36: =取材申請書!Y43 -> 0 | U36: =取材申請書!Y44 -> 0 | V36: =取材申請書!Y45 -> 0 | W36: =取材申請書!Y46 -> 0 | X36: =取材申請書!Y47 -> 0 | Y36: =取材申請書!Y48 -> 0 | Z36: =取材申請書!Y49 -> 0 | AA36: =取材申請書!Y50 -> 0 | AB36: =取材申請書!Y51 -> 0 | AC36: =取材申請書!Y52 -> 0 | AD36: =取材申請書!Y53 -> 0 | AE36: =取材申請書!Y54 -> 0 | AF36: =取材申請書!Y55 -> 0 | AG36: =取材申請書!Y56 -> 0 | AH36: =取材申請書!Y57 -> 0 | AI36: =取材申請書!Y58 -> 0 | AJ36: =取材申請書!Y59 -> 0 | AK36: =取材申請書!Y60 -> 0 | AL36: =取材申請書!Y61 -> 0 | AM36: =取材申請書!Y62 -> 0
D37: =取材申請書!M27 -> 0 | F37: =取材申請書!K27 -> 0 | G37: =取材申請書!O27 -> 0 | I37: =取材申請書!P27 -> 0 | L37: =取材申請書!Z33 -> 0 | M37: =取材申請書!Z34 -> 0 | N37: =取材申請書!Z35 -> 0 | O37: =取材申請書!Z36 -> 0 | P37: =取材申請書!Z37 -> 0 | Q37: =取材申請書!Z38 -> 0 | R37: =取材申請書!Z41 -> 0 | S37: =取材申請書!Z42 -> 0 | T37: =取材申請書!Z43 -> 0 | U37: =取材申請書!Z44 -> 0 | V37: =取材申請書!Z45 -> 0 | W37: =取材申請書!Z46 -> 0 | X37: =取材申請書!Z47 -> 0 | Y37: =取材申請書!Z48 -> 0 | Z37: =取材申請書!Z49 -> 0 | AA37: =取材申請書!Z50 -> 0 | AB37: =取材申請書!Z51 -> 0 | AC37: =取材申請書!Z52 -> 0 | AD37: =取材申請書!Z53 -> 0 | AE37: =取材申請書!Z54 -> 0 | AF37: =取材申請書!Z55 -> 0 | AG37: =取材申請書!Z56 -> 0 | AH37: =取材申請書!Z57 -> 0 | AI37: =取材申請書!Z58 -> 0 | AJ37: =取材申請書!Z59 -> 0 | AK37: =取材申請書!Z60 -> 0 | AL37: =取材申請書!Z61 -> 0 | AM37: =取材申請書!Z62 -> 0
D38: =取材申請書!M28 -> 0 | F38: =取材申請書!K28 -> 0 | G38: =取材申請書!O28 | I38: =取材申請書!P28 -> 0 | L38: =取材申請書!AA33 -> 0 | M38: =取材申請書!AA34 -> 0 | N38: =取材申請書!AA35 -> 0 | O38: =取材申請書!AA36 -> 0 | P38: =取材申請書!AA37 -> 0 | Q38: =取材申請書!AA38 -> 0 | R38: =取材申請書!AA41 -> 0 | S38: =取材申請書!AA42 -> 0 | T38: =取材申請書!AA43 -> 0 | U38: =取材申請書!AA44 -> 0 | V38: =取材申請書!AA45 -> 0 | W38: =取材申請書!AA46 -> 0 | X38: =取材申請書!AA47 -> 0 | Y38: =取材申請書!AA48 -> 0 | Z38: =取材申請書!AA49 -> 0 | AA38: =取材申請書!AA50 -> 0 | AB38: =取材申請書!AA51 -> 0 | AC38: =取材申請書!AA52 -> 0 | AD38: =取材申請書!AA53 -> 0 | AE38: =取材申請書!AA54 -> 0 | AF38: =取材申請書!AA55 -> 0 | AG38: =取材申請書!AA56 -> 0 | AH38: =取材申請書!AA57 -> 0 | AI38: =取材申請書!AA58 -> 0 | AJ38: =取材申請書!AA59 -> 0 | AK38: =取材申請書!AA60 -> 0 | AL38: =取材申請書!AA61 -> 0 | AM38: =取材申請書!AA62 -> 0
